BEGIN:VCALENDAR
VERSION:2.0
PRODID:-//Igreja Sal da Terra CMA - ECPv6.15.11//NONSGML v1.0//EN
CALSCALE:GREGORIAN
METHOD:PUBLISH
X-ORIGINAL-URL:https://sal.org.br
X-WR-CALDESC:Eventos para Igreja Sal da Terra CMA
REFRESH-INTERVAL;VALUE=DURATION:PT1H
X-Robots-Tag:noindex
X-PUBLISHED-TTL:PT1H
BEGIN:VTIMEZONE
TZID:America/Sao_Paulo
BEGIN:STANDARD
TZOFFSETFROM:-0300
TZOFFSETTO:-0300
TZNAME:-03
DTSTART:20250101T000000
END:STANDARD
END:VTIMEZONE
BEGIN:VEVENT
DTSTART;TZID=America/Sao_Paulo:20260307T083000
DTEND;TZID=America/Sao_Paulo:20260307T140000
DTSTAMP:20260422T141206
CREATED:20260205T110527Z
LAST-MODIFIED:20260211T000049Z
UID:10000008-1772872200-1772892000@sal.org.br
SUMMARY:Encontro de Mulheres - Preparando a Terra
DESCRIPTION:Nosso primeiro Encontro de Mulheres do ano em comemoração especial para o dia das mulheres. Com um delicioso café da manhã e uma maravilhosa Costela Fogo de Chão. Palavra abençoada com a Pastora Roberta Rocha (Sal da 90)
URL:https://sal.org.br/event/encontro-de-mulheres-preparando-a-terra/
CATEGORIES:Eventos
END:VEVENT
END:VCALENDAR