BEGIN:VCALENDAR
VERSION:2.0
PRODID:-//Igreja Sal da Terra CMA - ECPv6.15.11//NONSGML v1.0//EN
CALSCALE:GREGORIAN
METHOD:PUBLISH
X-ORIGINAL-URL:https://sal.org.br
X-WR-CALDESC:Eventos para Igreja Sal da Terra CMA
REFRESH-INTERVAL;VALUE=DURATION:PT1H
X-Robots-Tag:noindex
X-PUBLISHED-TTL:PT1H
BEGIN:VTIMEZONE
TZID:America/Sao_Paulo
BEGIN:STANDARD
TZOFFSETFROM:-0300
TZOFFSETTO:-0300
TZNAME:-03
DTSTART:20250101T000000
END:STANDARD
END:VTIMEZONE
BEGIN:VEVENT
DTSTART;TZID=America/Sao_Paulo:20260123T170000
DTEND;TZID=America/Sao_Paulo:20260125T170000
DTSTAMP:20260422T200213
CREATED:20260110T022659Z
LAST-MODIFIED:20260122T211252Z
UID:10000007-1769187600-1769360400@sal.org.br
SUMMARY:Retiro de Líderes 2026
DESCRIPTION:Informações\n\n\n\n\n\n– Local: Chácara Villa Marina\n– Início: 23 de Janeiro\n– Término: 25 de Janeiro às 15h \n\n\n\n\n\n\n\n\n\nValores\n\n\n\n\n\n– Valor: R$ 100\,00\n– Isenção: Crianças até 12 anos\, acompanhadas dos pais. \n\n\n\n\n\n\n\n\n\n\n\n\n\nTermos e condições\n\n\n\n\n\n\nO retiro destina-se aos membros dos conselhos ministeriais\, líderes de pequenos grupos e pastores da Igreja Sal CMA\, incluindo seus cônjuges e filhos.\nPara garantir a inscrição\, é necessário efetuar o pagamento.\nAs acomodações serão compartilhadas\, separadas entre homens e mulheres.\nLevar itens de higiene pessoal\, roupas de cama e banho.\nEscolha vestimentas discretas e sóbrias\, respeitando o ambiente da igreja e garantindo uma apresentação harmoniosa no retiro.\nRoupas de banho NÃO PODEM ser transparentes\, decotadas ou justas\, devendo cobrir barriga\, colo\, coxas e partes íntimas sem marcar o corpo.\nOs pais que forem levar os seus filhos deverão cadastrá-los\, TODOS ELES.\nNão haverá programação específica para crianças\, então os pais deverão ficar atentos a seus filhos.\nTodos os participantes se comprometam a participar integralmente da programação\, obedecendo os horários estabelecidos.\nMuito cuidado com as crianças\, pois o acampamento é amplo e conta com piscina e locais com muita água.\nOs participantes devem ter atitudes respeitosas e condizentes com os valores cristãos.\nO espaço do retiro deve ser utilizado com cuidado\, prezando pela organização e limpeza.\nAutorizo o uso de minha imagem e voz em fotos\, filmagens e gravações para divulgação institucional da Igreja Sal CMA\, conforme a LGPD\, podendo revogar a autorização a qualquer momento.
URL:https://sal.org.br/event/retiro-de-lideres-2026/
END:VEVENT
BEGIN:VEVENT
DTSTART;TZID=America/Sao_Paulo:20260307T083000
DTEND;TZID=America/Sao_Paulo:20260307T140000
DTSTAMP:20260422T200213
CREATED:20260205T110527Z
LAST-MODIFIED:20260211T000049Z
UID:10000008-1772872200-1772892000@sal.org.br
SUMMARY:Encontro de Mulheres - Preparando a Terra
DESCRIPTION:Nosso primeiro Encontro de Mulheres do ano em comemoração especial para o dia das mulheres. Com um delicioso café da manhã e uma maravilhosa Costela Fogo de Chão. Palavra abençoada com a Pastora Roberta Rocha (Sal da 90)
URL:https://sal.org.br/event/encontro-de-mulheres-preparando-a-terra/
CATEGORIES:Eventos
END:VEVENT
BEGIN:VEVENT
DTSTART;VALUE=DATE:20260411
DTEND;VALUE=DATE:20260412
DTSTAMP:20260422T200213
CREATED:20260315T033629Z
LAST-MODIFIED:20260315T035508Z
UID:10000009-1775865600-1775951999@sal.org.br
SUMMARY:Seminário de Homens - Sal da Terra CMA - Dia 11/04
DESCRIPTION:Tema: Homens Fortes\, Para Frutificar \nUm tempo especial de comunhão\, ensino e fortalecimento espiritual para homens que desejam crescer em todas as áreas da vida. \nO Retiro de Homens 2026 foi preparado para desafiar cada participante a viver o propósito de Deus com maturidade\, responsabilidade e fé. Durante o evento\, teremos momentos de ministração da Palavra\, comunhão e direcionamento prático para a vida cristã. \nPregadores Convidados\n\n\nPr. Hamilton Jr \n\n\nCláudio Carvalho \n\n\nPaulo Neto \n\n\nTema 2026\nHomens Fortes\, Para Frutificar \nSer um homem forte não significa apenas ter força física\, mas desenvolver uma vida equilibrada e firmada em Deus. Durante o retiro abordaremos quatro pilares fundamentais: \nSaúde FísicaCuidar do corpo como templo do Espírito\, garantindo a força necessária para cumprir o chamado de Deus. \nSaúde EmocionalUma mente renovada que reflete o caráter\, a paz e o amor de Cristo nas decisões e relacionamentos. \nSaúde EspiritualIntimidade com Deus através da oração e da Palavra\, como fundamento para toda a vida. \nSaúde FinanceiraO homem que assume o papel de provedor precisa de sabedoria para administrar bem seus recursos\, trazendo segurança para sua família e paz ao coração. \nInformações do Evento\n🕗 Data: 11/04/2026 \n🕗 Início: 8h da manhã \n💰 Valor da inscrição: R$ 60\,00 \n💳 Pagamento: via PIX ou Crédito no ato da inscrição \nInscrição\nPara participar\, preencha a ficha de inscrição e realize o pagamento da taxa.
URL:https://sal.org.br/event/seminario-de-homens-sal-da-terra-cma-dia-11-04/
CATEGORIES:Seminários
END:VEVENT
BEGIN:VEVENT
DTSTART;TZID=America/Sao_Paulo:20260412T140000
DTEND;TZID=America/Sao_Paulo:20260412T140000
DTSTAMP:20260422T200213
CREATED:20260412T231650Z
LAST-MODIFIED:20260412T231657Z
UID:10000010-1776002400-1776002400@sal.org.br
SUMMARY:Encontro de Casais 2026
DESCRIPTION:💍 Encontro de Casais – Um Tempo para Recomeçar e Fortalecer 💍 \nEm meio à rotina\, responsabilidades e desafios\, muitos casais acabam se afastando sem perceber… \nMas e se você tivesse a oportunidade de parar tudo por um momento… e investir no que realmente importa? \n✨ Um final de semana especial em um hotel em Caldas Novas\n✨ Momentos de conexão\, descanso e renovação\n✨ Princípios que fortalecem o casamento à luz da Palavra\n✨ Tempo de qualidade longe das distrações do dia a dia \nPorque casamentos fortes não acontecem por acaso… são construídos com intenção. \n \n  \nPresença do Pr. Fabrício Martins e da Pra. Ana Paula \n❤️ Invista no seu relacionamento\n❤️ Fortaleça sua aliança\n❤️ Viva algo novo ao lado de quem você ama \n  \n  \n  \n📍 Caldas Novas\n📲 Garanta sua vaga e participe dessa experiência transformadora
URL:https://sal.org.br/event/encontro-de-casais-2026/
CATEGORIES:Casais
END:VEVENT
END:VCALENDAR