BEGIN:VCALENDAR
VERSION:2.0
PRODID:-//Igreja Sal da Terra CMA - ECPv6.15.11//NONSGML v1.0//EN
CALSCALE:GREGORIAN
METHOD:PUBLISH
X-WR-CALNAME:Igreja Sal da Terra CMA
X-ORIGINAL-URL:https://sal.org.br
X-WR-CALDESC:Eventos para Igreja Sal da Terra CMA
REFRESH-INTERVAL;VALUE=DURATION:PT1H
X-Robots-Tag:noindex
X-PUBLISHED-TTL:PT1H
BEGIN:VTIMEZONE
TZID:America/Sao_Paulo
BEGIN:STANDARD
TZOFFSETFROM:-0300
TZOFFSETTO:-0300
TZNAME:-03
DTSTART:20240101T000000
END:STANDARD
END:VTIMEZONE
BEGIN:VEVENT
DTSTART;TZID=America/Sao_Paulo:20251122T080000
DTEND;TZID=America/Sao_Paulo:20251122T130000
DTSTAMP:20260422T152125
CREATED:20251102T194842Z
LAST-MODIFIED:20251120T115903Z
UID:10000005-1763798400-1763816400@sal.org.br
SUMMARY:Seminário de Homens Sal da Terra CMA 2025
DESCRIPTION:
URL:https://sal.org.br/event/seminario-de-homens-sal-da-terra-cma-2025/
LOCATION:Sal da Terra CMA\, Av. Sr. do Bonfim\, Quadra 6\, Lote 4/6 - Conj. Fabiana\, Goiânia - GO\, 74870-230\, Goiânia\, GO\, 74.870-230\, Brazil
CATEGORIES:Seminários
ATTACH;FMTTYPE=image/png:https://sal.org.br/wp-content/uploads/2025/11/seminario-de-homens.png
END:VEVENT
END:VCALENDAR